BEGIN:VCALENDAR
VERSION:2.0
PRODID:-//Sociedad Musical Santa Cecilia de Requena - ECPv6.5.1.5//NONSGML v1.0//EN
CALSCALE:GREGORIAN
METHOD:PUBLISH
X-WR-CALNAME:Sociedad Musical Santa Cecilia de Requena
X-ORIGINAL-URL:https://santaceciliaderequena.org
X-WR-CALDESC:Eventos para Sociedad Musical Santa Cecilia de Requena
REFRESH-INTERVAL;VALUE=DURATION:PT1H
X-Robots-Tag:noindex
X-PUBLISHED-TTL:PT1H
BEGIN:VTIMEZONE
TZID:Europe/Helsinki
BEGIN:DAYLIGHT
TZOFFSETFROM:+0200
TZOFFSETTO:+0300
TZNAME:EEST
DTSTART:20210328T010000
END:DAYLIGHT
BEGIN:STANDARD
TZOFFSETFROM:+0300
TZOFFSETTO:+0200
TZNAME:EET
DTSTART:20211031T010000
END:STANDARD
END:VTIMEZONE
BEGIN:VEVENT
DTSTART;TZID=Europe/Helsinki:20210111T160000
DTEND;TZID=Europe/Helsinki:20210112T200000
DTSTAMP:20260423T004308
CREATED:20210110T180125Z
LAST-MODIFIED:20210110T180125Z
UID:1629-1610380800-1610481600@santaceciliaderequena.org
SUMMARY:Suspensión clases
DESCRIPTION:Debido a la situación de riesgo por heladas en las carreteras y en la vía publica\, el Ayuntamiento de nuestra ciudad ha decidido suspender la actividad docente en nuestro municipio los próximos días  11 y 12 de enero. Por este motivo se suspenden las clases en nuestra Escuela de Música. \nPara recuperar las clases perdidas por esta circunstancia\, el final del curso se prolongará una semana adicional. \nDisculpar las molestias que esta situación pueda causar.
URL:https://santaceciliaderequena.org/evento/suspension-clases/
LOCATION:Valencia
CATEGORIES:Otros
ATTACH;FMTTYPE=:
ORGANIZER;CN="Sociedad Musical Santa Cecilia de Requena":MAILTO:info@santaceciliaderequena.org
END:VEVENT
END:VCALENDAR