BEGIN:VCALENDAR
VERSION:2.0
PRODID:-//Sociedad Musical Santa Cecilia de Requena - ECPv6.5.1.5//NONSGML v1.0//EN
CALSCALE:GREGORIAN
METHOD:PUBLISH
X-WR-CALNAME:Sociedad Musical Santa Cecilia de Requena
X-ORIGINAL-URL:https://santaceciliaderequena.org
X-WR-CALDESC:Eventos para Sociedad Musical Santa Cecilia de Requena
REFRESH-INTERVAL;VALUE=DURATION:PT1H
X-Robots-Tag:noindex
X-PUBLISHED-TTL:PT1H
BEGIN:VTIMEZONE
TZID:Europe/Helsinki
BEGIN:DAYLIGHT
TZOFFSETFROM:+0200
TZOFFSETTO:+0300
TZNAME:EEST
DTSTART:20210328T010000
END:DAYLIGHT
BEGIN:STANDARD
TZOFFSETFROM:+0300
TZOFFSETTO:+0200
TZNAME:EET
DTSTART:20211031T010000
END:STANDARD
END:VTIMEZONE
BEGIN:VEVENT
DTSTART;TZID=Europe/Helsinki:20210118T160000
DTEND;TZID=Europe/Helsinki:20210118T200000
DTSTAMP:20260423T004241
CREATED:20210113T203342Z
LAST-MODIFIED:20210113T203342Z
UID:1631-1610985600-1611000000@santaceciliaderequena.org
SUMMARY:Pago Lotería del Niño
DESCRIPTION:A partir del próximo lunes 18 de enero en horario de 16:00 a 20:00 horas\,  podrás cobrar en conserjería de nuestro local\, las papeletas del numero 49.534\, del sorteo extraordinario del niño\, premiado con la devolución de la cantidad jugada.
URL:https://santaceciliaderequena.org/evento/pago-loteria-del-nino/
LOCATION:Auditorio Sociedad Musical Santa Cecilia\, Calle Rafael Bernabeu\, 1\, Requena\, Valencia\, 46340\, España
CATEGORIES:Otros
ATTACH;FMTTYPE=image/png:https://santaceciliaderequena.org/wp-content/uploads/2021/01/decimo-loteria-el-nino-2017-49534-1-1-20-1.png
ORGANIZER;CN="Sociedad Musical Santa Cecilia de Requena":MAILTO:info@santaceciliaderequena.org
END:VEVENT
END:VCALENDAR