BEGIN:VCALENDAR
VERSION:2.0
PRODID:-//Sociedad Musical Santa Cecilia de Requena - ECPv6.5.1.5//NONSGML v1.0//EN
CALSCALE:GREGORIAN
METHOD:PUBLISH
X-WR-CALNAME:Sociedad Musical Santa Cecilia de Requena
X-ORIGINAL-URL:https://santaceciliaderequena.org
X-WR-CALDESC:Eventos para Sociedad Musical Santa Cecilia de Requena
REFRESH-INTERVAL;VALUE=DURATION:PT1H
X-Robots-Tag:noindex
X-PUBLISHED-TTL:PT1H
BEGIN:VTIMEZONE
TZID:Europe/Helsinki
BEGIN:DAYLIGHT
TZOFFSETFROM:+0200
TZOFFSETTO:+0300
TZNAME:EEST
DTSTART:20210328T010000
END:DAYLIGHT
BEGIN:STANDARD
TZOFFSETFROM:+0300
TZOFFSETTO:+0200
TZNAME:EET
DTSTART:20211031T010000
END:STANDARD
END:VTIMEZONE
BEGIN:VEVENT
DTSTART;TZID=Europe/Helsinki:20211120T193000
DTEND;TZID=Europe/Helsinki:20211120T213000
DTSTAMP:20260422T050924
CREATED:20211114T191618Z
LAST-MODIFIED:20211114T191618Z
UID:1897-1637436600-1637443800@santaceciliaderequena.org
SUMMARY:Jazz Around the World. Concierto Big Band 44 Semana Musical
DESCRIPTION:Comienza nuestra Semana Musical con el concierto de la Big Band Jazz Ensemble de Requena. \nEl próximo sábado 20 de noviembre a las 19:30 h\, en el Teatro Principal de Requena la Big Band Jazz Ensemble de Requena\, bajo la dirección de Alejandro Garcia Pedrón\, nos invita a realizar un viaje alrededor del mundo con un variado repertorio repleto de swing\, soul y jazz. Durante el recorrido se realizarán  las siguientes paradas: \n\nTake the A train. Billy Strayhorn. arr. Mark Taylor\nSao Paulo. David Benoit\, arr. Gordon Goodwin\nMexicali Nose. Harry Betts\, arr. JL Granell & M. Valls\nVehicle. James M. Peterik\, arr Paul Murtha\nAutum in New York. Stan Kenton\nEuropa. Carlos Santana & Tom Coster\, arr. Eric Richards\nFly me to the Moon. Bart Howard\, arr. Jon Harpin\nGuantanamera. Jose Fernandez Diaz\, arr. Philip Mossman\nBolivian Fantasy. Michael Philip Mossman\nAint no mountain high. Nickolas Ashford and Valerie Simpson\, arr. Paul Murtha\n\nA la finalización del concierto tendremos la proclamación de las Madrinas de la Música 2021-2022: \n\nIngrid Cárcel Navarro\nMercedes García Herrero\n\nAforo limitado. \n\nEntrada gratuita Socios Sociedad Musical\nResto público 5€
URL:https://santaceciliaderequena.org/evento/jazz-around-the-world-concierto-big-band-44-semana-musical/
LOCATION:Teatro Principal\, Calle de las Cruces 5\, Requena\, Valencia\, 46340\, España
CATEGORIES:Concierto
ATTACH;FMTTYPE=image/jpeg:https://santaceciliaderequena.org/wp-content/uploads/2021/11/Big-Band-44-semana-musical-1-1.jpg
ORGANIZER;CN="Sociedad Musical Santa Cecilia de Requena":MAILTO:info@santaceciliaderequena.org
END:VEVENT
BEGIN:VEVENT
DTSTART;TZID=Europe/Helsinki:20211120T193000
DTEND;TZID=Europe/Helsinki:20211120T213000
DTSTAMP:20260422T050924
CREATED:20211114T191618Z
LAST-MODIFIED:20211114T191618Z
UID:2213-1637436600-1637443800@santaceciliaderequena.org
SUMMARY:Jazz Around the World. Concierto Big Band 44 Semana Musical
DESCRIPTION:Comienza nuestra Semana Musical con el concierto de la Big Band Jazz Ensemble de Requena. \nEl próximo sábado 20 de noviembre a las 19:30 h\, en el Teatro Principal de Requena la Big Band Jazz Ensemble de Requena\, bajo la dirección de Alejandro Garcia Pedrón\, nos invita a realizar un viaje alrededor del mundo con un variado repertorio repleto de swing\, soul y jazz. Durante el recorrido se realizarán  las siguientes paradas: \n\nTake the A train. Billy Strayhorn. arr. Mark Taylor\nSao Paulo. David Benoit\, arr. Gordon Goodwin\nMexicali Nose. Harry Betts\, arr. JL Granell & M. Valls\nVehicle. James M. Peterik\, arr Paul Murtha\nAutum in New York. Stan Kenton\nEuropa. Carlos Santana & Tom Coster\, arr. Eric Richards\nFly me to the Moon. Bart Howard\, arr. Jon Harpin\nGuantanamera. Jose Fernandez Diaz\, arr. Philip Mossman\nBolivian Fantasy. Michael Philip Mossman\nAint no mountain high. Nickolas Ashford and Valerie Simpson\, arr. Paul Murtha\n\nA la finalización del concierto tendremos la proclamación de las Madrinas de la Música 2021-2022: \n\nIngrid Cárcel Navarro\nMercedes García Herrero\n\nAforo limitado. \n\nEntrada gratuita Socios Sociedad Musical\nResto público 5€
URL:https://santaceciliaderequena.org/evento/jazz-around-the-world-concierto-big-band-44-semana-musical-2/
LOCATION:Teatro Principal\, Calle de las Cruces 5\, Requena\, Valencia\, 46340\, España
CATEGORIES:Concierto
ATTACH;FMTTYPE=image/jpeg:https://santaceciliaderequena.org/wp-content/uploads/2021/11/Big-Band-44-semana-musical-1-1.jpg
ORGANIZER;CN="Sociedad Musical Santa Cecilia de Requena":MAILTO:info@santaceciliaderequena.org
END:VEVENT
END:VCALENDAR