BEGIN:VCALENDAR
VERSION:2.0
PRODID:-//Sociedad Musical Santa Cecilia de Requena - ECPv6.5.1.5//NONSGML v1.0//EN
CALSCALE:GREGORIAN
METHOD:PUBLISH
X-ORIGINAL-URL:https://santaceciliaderequena.org
X-WR-CALDESC:Eventos para Sociedad Musical Santa Cecilia de Requena
REFRESH-INTERVAL;VALUE=DURATION:PT1H
X-Robots-Tag:noindex
X-PUBLISHED-TTL:PT1H
BEGIN:VTIMEZONE
TZID:Europe/Helsinki
BEGIN:DAYLIGHT
TZOFFSETFROM:+0200
TZOFFSETTO:+0300
TZNAME:EEST
DTSTART:20210328T010000
END:DAYLIGHT
BEGIN:STANDARD
TZOFFSETFROM:+0300
TZOFFSETTO:+0200
TZNAME:EET
DTSTART:20211031T010000
END:STANDARD
END:VTIMEZONE
BEGIN:VEVENT
DTSTART;TZID=Europe/Helsinki:20211122T190000
DTEND;TZID=Europe/Helsinki:20211122T200000
DTSTAMP:20260422T051026
CREATED:20211115T075828Z
LAST-MODIFIED:20211115T075828Z
UID:1934-1637607600-1637611200@santaceciliaderequena.org
SUMMARY:Premio Francisco Rabadán. XLIV Semana Musical
DESCRIPTION:El lunes 22 de noviembre a las 19:00 horas\, en el Auditorio de la Sociedad Musical Santa Cecilia de Requena\, celebraremos las audiciones para el premio «Francisco Rabadán«. \nEn primer lugar se realizarán las audiciones de los alumnos presentados al concurso 2021. \n\nIván Gómez Martínez (flauta travesera)\n\nPosteriormete podremos disfrutar con los ganadores del concurso en el año 2019. \n\nMercedes García Herrero (flauta travesera)\nDavid López Alberique (clarinete)\n\n\n\n\n\n\n\n\nAforo limitado. \nEntrada gratuita.
URL:https://santaceciliaderequena.org/evento/premio-francisco-rabadan-xliv-semana-musical/
LOCATION:Auditorio Sociedad Musical Santa Cecilia\, Calle Rafael Bernabeu\, 1\, Requena\, Valencia\, 46340\, España
CATEGORIES:Audición
ATTACH;FMTTYPE=image/jpeg:https://santaceciliaderequena.org/wp-content/uploads/2021/11/44-semana-musical-1.jpg
END:VEVENT
BEGIN:VEVENT
DTSTART;TZID=Europe/Helsinki:20211122T190000
DTEND;TZID=Europe/Helsinki:20211122T200000
DTSTAMP:20260422T051026
CREATED:20211115T075828Z
LAST-MODIFIED:20211115T075828Z
UID:2217-1637607600-1637611200@santaceciliaderequena.org
SUMMARY:Premio Francisco Rabadán. XLIV Semana Musical
DESCRIPTION:El lunes 22 de noviembre a las 19:00 horas\, en el Auditorio de la Sociedad Musical Santa Cecilia de Requena\, celebraremos las audiciones para el premio «Francisco Rabadán«. \nEn primer lugar se realizarán las audiciones de los alumnos presentados al concurso 2021. \n\nIván Gómez Martínez (flauta travesera)\n\nPosteriormete podremos disfrutar con los ganadores del concurso en el año 2019. \n\nMercedes García Herrero (flauta travesera)\nDavid López Alberique (clarinete)\n\n\n\n\n\n\n\n\nAforo limitado. \nEntrada gratuita.
URL:https://santaceciliaderequena.org/evento/premio-francisco-rabadan-xliv-semana-musical-2/
LOCATION:Auditorio Sociedad Musical Santa Cecilia\, Calle Rafael Bernabeu\, 1\, Requena\, Valencia\, 46340\, España
CATEGORIES:Audición
ATTACH;FMTTYPE=image/jpeg:https://santaceciliaderequena.org/wp-content/uploads/2021/11/44-semana-musical-1.jpg
END:VEVENT
END:VCALENDAR