BEGIN:VCALENDAR
VERSION:2.0
PRODID:-//Sociedad Musical Santa Cecilia de Requena - ECPv6.5.1.5//NONSGML v1.0//EN
CALSCALE:GREGORIAN
METHOD:PUBLISH
X-WR-CALNAME:Sociedad Musical Santa Cecilia de Requena
X-ORIGINAL-URL:https://santaceciliaderequena.org
X-WR-CALDESC:Eventos para Sociedad Musical Santa Cecilia de Requena
REFRESH-INTERVAL;VALUE=DURATION:PT1H
X-Robots-Tag:noindex
X-PUBLISHED-TTL:PT1H
BEGIN:VTIMEZONE
TZID:Europe/Helsinki
BEGIN:DAYLIGHT
TZOFFSETFROM:+0200
TZOFFSETTO:+0300
TZNAME:EEST
DTSTART:20210328T010000
END:DAYLIGHT
BEGIN:STANDARD
TZOFFSETFROM:+0300
TZOFFSETTO:+0200
TZNAME:EET
DTSTART:20211031T010000
END:STANDARD
END:VTIMEZONE
BEGIN:VEVENT
DTSTART;TZID=Europe/Helsinki:20211123T190000
DTEND;TZID=Europe/Helsinki:20211123T200000
DTSTAMP:20260422T050907
CREATED:20211115T075855Z
LAST-MODIFIED:20211115T075855Z
UID:2218-1637694000-1637697600@santaceciliaderequena.org
SUMMARY:Audiciones alumnos C.P.M. Mariano Pérez Sánchez. XLIV Semana Musical
DESCRIPTION:El martes 23 de noviembre a las 19:00 horas\, en el Auditorio de la Sociedad Musical Santa Cecilia de Requena\, se realizarán las audiciones de los alumnos del Conservatorio Profesional de Música Mariano Pérez Sánchez de Requena. \nContaremos con las siguientes actuaciones: \nDúo de violín y piano\nSara Iniesta Arranz (Violín\, 4º EEPP)\nDaniel Navarro Morcillo (Piano\, 6º EEPP)\nF. Schubert – Sonatina en Re Mayor Op. 137 Nº 1\nI. Allegro molto \nProf.: Xavi Martínez Abad \nTrío de dos violines y piano\nJimena Martínez Serrano (Violín\, 3º EEPP)\nCelia Melero Monzálvez (Violín\, 3º EEPP)\nNora Hervás Navarro (Piano\, 3º EEPP)\nJosef Suk – Bagatela \nProf.: Estíbaliz Ruiz Doñate \nTrío de dos oboes y fagot\nIrene Pardo Diana (Oboe\, 3º EEPP)\nCarla Banacloig Llopis (Oboe\, 3º EEPP)\nAlejandro Fenollosa Pérez (Fagot\, 3º EEPP)\nA. Vivaldi – Trío Sonata en Sol m Rv 81\nI. Allegro \nProf.: Vicent Gómez Pablo \nCuarteto de flautas\nCarla Marzo Vila (5º EEPP)\nÁfrica Zanón Vallés (3º EEPP)\nXueyan Faubel Guerrero (5º EEPP)\nIván Gómez Martínez (5º EEPP)\nG. P. Telemann – Concierto en Fa Mayor\nI. Adagio – Allegro\nII. Grave\nIII. Allegro \nProf.: Diana Martí Mínguez \nTrío de clarinetes\nEugenia Ortiz Pedrón (4º EEPP)\nNadia Selena Isac (4º EEPP)\nEdurne García Moya (3º EEPP)\nW. A. Mozart – Divertimento Nr. 4\nI. Allegro\nII. Larghetto \nProf.: Juan Ramón Iñesta Simó \nTrío de clarinetes\nIngrid Perelló Hernández (4º EEPP)\nNuria Cervera Fernández (4º EEPP)\nCandela Cardeñas Fuertes (3º EEPP)\nW. A. Mozart – Serenata nº 1 para tres clarinetes\nI. Allegro \nProf.: Xavi Martínez Abad \nCuarteto de cuerda\nDiego Melero Monsálvez (Violín\, 6º EEPP)\nPedro López Octavio (Violín\, 6º EEPP)\nDaniela García Ferrer (Viola\, 3º EEPP)\nMaría Valencia Tello (Violonchelo\, 3º EEPP)\nW. A. Mozart – Divertimento en Fa M\nI. Allegro \nProf.: Silvia Peris Francés \nDúo Saxofones\nMª Pilar Amorós Martínez (Saxofón Alto\, 3º EEPP)\nCarlos García López (Saxofón Tenor\, 3º EEPP)\nS. Joplin – The Entertainment \nProf.: Raquel Alcántara Mateu \nCuarteto de flautas\nNatalia Vento Badía (6º EEPP)\nMarina García Olmo (6º EEPP)\nElsa Gómez Fuertes (6º EEPP)\nIsabel Catalá Fort (6º EEPP)\nA. Piazzolla – Libertango \nProf.: Raquel Alcántara Mateu \nAforo limitado. Entrada gratuita.
URL:https://santaceciliaderequena.org/evento/audiciones-alumnos-c-p-m-mariano-perez-sanchez-xliv-semana-musical-2/
LOCATION:Auditorio Sociedad Musical Santa Cecilia\, Calle Rafael Bernabeu\, 1\, Requena\, Valencia\, 46340\, España
CATEGORIES:Audición
ATTACH;FMTTYPE=image/jpeg:https://santaceciliaderequena.org/wp-content/uploads/2021/11/44-semana-musical-1.jpg
ORGANIZER;CN="Sociedad Musical Santa Cecilia de Requena":MAILTO:info@santaceciliaderequena.org
END:VEVENT
BEGIN:VEVENT
DTSTART;TZID=Europe/Helsinki:20211123T190000
DTEND;TZID=Europe/Helsinki:20211123T200000
DTSTAMP:20260422T050907
CREATED:20211115T075855Z
LAST-MODIFIED:20211115T075855Z
UID:1936-1637694000-1637697600@santaceciliaderequena.org
SUMMARY:Audiciones alumnos C.P.M. Mariano Pérez Sánchez. XLIV Semana Musical
DESCRIPTION:El martes 23 de noviembre a las 19:00 horas\, en el Auditorio de la Sociedad Musical Santa Cecilia de Requena\, se realizarán las audiciones de los alumnos del Conservatorio Profesional de Música Mariano Pérez Sánchez de Requena. \nContaremos con las siguientes actuaciones: \nDúo de violín y piano\nSara Iniesta Arranz (Violín\, 4º EEPP)\nDaniel Navarro Morcillo (Piano\, 6º EEPP)\nF. Schubert – Sonatina en Re Mayor Op. 137 Nº 1\nI. Allegro molto \nProf.: Xavi Martínez Abad \nTrío de dos violines y piano\nJimena Martínez Serrano (Violín\, 3º EEPP)\nCelia Melero Monzálvez (Violín\, 3º EEPP)\nNora Hervás Navarro (Piano\, 3º EEPP)\nJosef Suk – Bagatela \nProf.: Estíbaliz Ruiz Doñate \nTrío de dos oboes y fagot\nIrene Pardo Diana (Oboe\, 3º EEPP)\nCarla Banacloig Llopis (Oboe\, 3º EEPP)\nAlejandro Fenollosa Pérez (Fagot\, 3º EEPP)\nA. Vivaldi – Trío Sonata en Sol m Rv 81\nI. Allegro \nProf.: Vicent Gómez Pablo \nCuarteto de flautas\nCarla Marzo Vila (5º EEPP)\nÁfrica Zanón Vallés (3º EEPP)\nXueyan Faubel Guerrero (5º EEPP)\nIván Gómez Martínez (5º EEPP)\nG. P. Telemann – Concierto en Fa Mayor\nI. Adagio – Allegro\nII. Grave\nIII. Allegro \nProf.: Diana Martí Mínguez \nTrío de clarinetes\nEugenia Ortiz Pedrón (4º EEPP)\nNadia Selena Isac (4º EEPP)\nEdurne García Moya (3º EEPP)\nW. A. Mozart – Divertimento Nr. 4\nI. Allegro\nII. Larghetto \nProf.: Juan Ramón Iñesta Simó \nTrío de clarinetes\nIngrid Perelló Hernández (4º EEPP)\nNuria Cervera Fernández (4º EEPP)\nCandela Cardeñas Fuertes (3º EEPP)\nW. A. Mozart – Serenata nº 1 para tres clarinetes\nI. Allegro \nProf.: Xavi Martínez Abad \nCuarteto de cuerda\nDiego Melero Monsálvez (Violín\, 6º EEPP)\nPedro López Octavio (Violín\, 6º EEPP)\nDaniela García Ferrer (Viola\, 3º EEPP)\nMaría Valencia Tello (Violonchelo\, 3º EEPP)\nW. A. Mozart – Divertimento en Fa M\nI. Allegro \nProf.: Silvia Peris Francés \nDúo Saxofones\nMª Pilar Amorós Martínez (Saxofón Alto\, 3º EEPP)\nCarlos García López (Saxofón Tenor\, 3º EEPP)\nS. Joplin – The Entertainment \nProf.: Raquel Alcántara Mateu \nCuarteto de flautas\nNatalia Vento Badía (6º EEPP)\nMarina García Olmo (6º EEPP)\nElsa Gómez Fuertes (6º EEPP)\nIsabel Catalá Fort (6º EEPP)\nA. Piazzolla – Libertango \nProf.: Raquel Alcántara Mateu \nAforo limitado. Entrada gratuita.
URL:https://santaceciliaderequena.org/evento/audiciones-alumnos-c-p-m-mariano-perez-sanchez-xliv-semana-musical/
LOCATION:Auditorio Sociedad Musical Santa Cecilia\, Calle Rafael Bernabeu\, 1\, Requena\, Valencia\, 46340\, España
CATEGORIES:Audición
ATTACH;FMTTYPE=image/jpeg:https://santaceciliaderequena.org/wp-content/uploads/2021/11/44-semana-musical-1.jpg
ORGANIZER;CN="Sociedad Musical Santa Cecilia de Requena":MAILTO:info@santaceciliaderequena.org
END:VEVENT
END:VCALENDAR