BEGIN:VCALENDAR
VERSION:2.0
PRODID:-//Sociedad Musical Santa Cecilia de Requena - ECPv6.5.1.5//NONSGML v1.0//EN
CALSCALE:GREGORIAN
METHOD:PUBLISH
X-WR-CALNAME:Sociedad Musical Santa Cecilia de Requena
X-ORIGINAL-URL:https://santaceciliaderequena.org
X-WR-CALDESC:Eventos para Sociedad Musical Santa Cecilia de Requena
REFRESH-INTERVAL;VALUE=DURATION:PT1H
X-Robots-Tag:noindex
X-PUBLISHED-TTL:PT1H
BEGIN:VTIMEZONE
TZID:Europe/Helsinki
BEGIN:DAYLIGHT
TZOFFSETFROM:+0200
TZOFFSETTO:+0300
TZNAME:EEST
DTSTART:20210328T010000
END:DAYLIGHT
BEGIN:STANDARD
TZOFFSETFROM:+0300
TZOFFSETTO:+0200
TZNAME:EET
DTSTART:20211031T010000
END:STANDARD
END:VTIMEZONE
BEGIN:VEVENT
DTSTART;TZID=Europe/Helsinki:20211125T190000
DTEND;TZID=Europe/Helsinki:20211125T200000
DTSTAMP:20260422T050924
CREATED:20211118T171947Z
LAST-MODIFIED:20211118T171947Z
UID:1938-1637866800-1637870400@santaceciliaderequena.org
SUMMARY:Audiciones Profesores Escuela Música. XLIV Semana Musical
DESCRIPTION:El jueves 25 de noviembre a las 19:00 horas\, en el Auditorio de la Sociedad Musical Santa Cecilia de Requena\, se realizarán las audiciones del profesorado de nuestra Escuela de Música. \nContaremos con las siguientes actuaciones: \n– Francisco Martínez Martínez (oboe) \nMetamorfosis de Ovidio para oboe. B. Britten \n– Pablo Soriano Sánchez (trompa) \nLa Tarara (Horn version). J. Carlos Max \nSolo de trompa 5º Sinfonía. P.I. Tchaikovsky \n– Ismael Almenar Gonzalez (clarinete) \nHomenaje a J.S. Bach. Bela Kovacs \n– Ismael Almenar Gonzalez (clarinete)/ Francisco Javier López Sabater (saxofón) \nVivace. Anónimo \nPasacaglia. J. Halvorsen \n– Francisco Javier López Sabater (saxofón) \nEstudio Tango nº 4. Astor Piazzola \nCapricho en forma de vals. P. Bonneau \n  \nAforo limitado. Entrada gratuita.
URL:https://santaceciliaderequena.org/evento/audiciones-profesores-escuela-musica-xliv-semana-musical/
LOCATION:Auditorio Sociedad Musical Santa Cecilia\, Calle Rafael Bernabeu\, 1\, Requena\, Valencia\, 46340\, España
CATEGORIES:Audición
ATTACH;FMTTYPE=image/jpeg:https://santaceciliaderequena.org/wp-content/uploads/2021/11/44-semana-musical-1.jpg
ORGANIZER;CN="Sociedad Musical Santa Cecilia de Requena":MAILTO:info@santaceciliaderequena.org
END:VEVENT
BEGIN:VEVENT
DTSTART;TZID=Europe/Helsinki:20211125T190000
DTEND;TZID=Europe/Helsinki:20211125T200000
DTSTAMP:20260422T050924
CREATED:20211118T171947Z
LAST-MODIFIED:20211118T171947Z
UID:2219-1637866800-1637870400@santaceciliaderequena.org
SUMMARY:Audiciones Profesores Escuela Música. XLIV Semana Musical
DESCRIPTION:El jueves 25 de noviembre a las 19:00 horas\, en el Auditorio de la Sociedad Musical Santa Cecilia de Requena\, se realizarán las audiciones del profesorado de nuestra Escuela de Música. \nContaremos con las siguientes actuaciones: \n– Francisco Martínez Martínez (oboe) \nMetamorfosis de Ovidio para oboe. B. Britten \n– Pablo Soriano Sánchez (trompa) \nLa Tarara (Horn version). J. Carlos Max \nSolo de trompa 5º Sinfonía. P.I. Tchaikovsky \n– Ismael Almenar Gonzalez (clarinete) \nHomenaje a J.S. Bach. Bela Kovacs \n– Ismael Almenar Gonzalez (clarinete)/ Francisco Javier López Sabater (saxofón) \nVivace. Anónimo \nPasacaglia. J. Halvorsen \n– Francisco Javier López Sabater (saxofón) \nEstudio Tango nº 4. Astor Piazzola \nCapricho en forma de vals. P. Bonneau \n  \nAforo limitado. Entrada gratuita.
URL:https://santaceciliaderequena.org/evento/audiciones-profesores-escuela-musica-xliv-semana-musical-2/
LOCATION:Auditorio Sociedad Musical Santa Cecilia\, Calle Rafael Bernabeu\, 1\, Requena\, Valencia\, 46340\, España
CATEGORIES:Audición
ATTACH;FMTTYPE=image/jpeg:https://santaceciliaderequena.org/wp-content/uploads/2021/11/44-semana-musical-1.jpg
ORGANIZER;CN="Sociedad Musical Santa Cecilia de Requena":MAILTO:info@santaceciliaderequena.org
END:VEVENT
END:VCALENDAR