BEGIN:VCALENDAR
VERSION:2.0
PRODID:-//Sociedad Musical Santa Cecilia de Requena - ECPv6.5.1.5//NONSGML v1.0//EN
CALSCALE:GREGORIAN
METHOD:PUBLISH
X-ORIGINAL-URL:https://santaceciliaderequena.org
X-WR-CALDESC:Eventos para Sociedad Musical Santa Cecilia de Requena
REFRESH-INTERVAL;VALUE=DURATION:PT1H
X-Robots-Tag:noindex
X-PUBLISHED-TTL:PT1H
BEGIN:VTIMEZONE
TZID:UTC
BEGIN:STANDARD
TZOFFSETFROM:+0000
TZOFFSETTO:+0000
TZNAME:UTC
DTSTART:20220101T000000
END:STANDARD
END:VTIMEZONE
BEGIN:VEVENT
DTSTART;TZID=UTC:20220402T190000
DTEND;TZID=UTC:20220402T203000
DTSTAMP:20260421T214733
CREATED:20220328T055726Z
LAST-MODIFIED:20220328T055726Z
UID:1983-1648926000-1648931400@santaceciliaderequena.org
SUMMARY:Concierto Primavera 2022
DESCRIPTION:El próximo sábado 2 de abril a las 19:00 horas\, en el Teatro Principal de Requena\, damos la bienvenida a la primavera con el concierto a cargo de la Banda Sinfónica de la Sociedad Musical «Santa Cecilia de Requena». \nBajo la dirección de nuestro director Sergio Navarro Bonaviña se interpretará el siguiente programa: \n\nCandide (Obertura). Leonard Bernstein\nBlue Shades. Frank Ticheli\nSpain. Chick Korea\nDoña Francisquita (Fandango). Amadeo Vives\nEl Amor Brujo (Danza Ritual del Fuego). Manuel de Falla\nDanzas Fantásticas Op 22. Joaquín Turina\n\n\n\n\n\n\nExaltación\nEnsueño\nOrgía\n\n\n\n\n\nDirector: Sergio Navarro Bonaviña \nEntrada gratuita.
URL:https://santaceciliaderequena.org/evento/concierto-primavera-2022/
LOCATION:Teatro Principal\, Calle de las Cruces 5\, Requena\, Valencia\, 46340\, España
CATEGORIES:Concierto
ATTACH;FMTTYPE=image/jpeg:https://santaceciliaderequena.org/wp-content/uploads/2022/03/concierto-primavera-1.jpg
ORGANIZER;CN="Sociedad Musical Santa Cecilia de Requena":MAILTO:info@santaceciliaderequena.org
END:VEVENT
END:VCALENDAR