BEGIN:VCALENDAR
VERSION:2.0
PRODID:-//Sociedad Musical Santa Cecilia de Requena - ECPv6.5.1.5//NONSGML v1.0//EN
CALSCALE:GREGORIAN
METHOD:PUBLISH
X-WR-CALNAME:Sociedad Musical Santa Cecilia de Requena
X-ORIGINAL-URL:https://santaceciliaderequena.org
X-WR-CALDESC:Eventos para Sociedad Musical Santa Cecilia de Requena
REFRESH-INTERVAL;VALUE=DURATION:PT1H
X-Robots-Tag:noindex
X-PUBLISHED-TTL:PT1H
BEGIN:VTIMEZONE
TZID:Europe/Madrid
BEGIN:DAYLIGHT
TZOFFSETFROM:+0100
TZOFFSETTO:+0200
TZNAME:CEST
DTSTART:20220327T010000
END:DAYLIGHT
BEGIN:STANDARD
TZOFFSETFROM:+0200
TZOFFSETTO:+0100
TZNAME:CET
DTSTART:20221030T010000
END:STANDARD
END:VTIMEZONE
BEGIN:VEVENT
DTSTART;TZID=Europe/Madrid:20220629T170000
DTEND;TZID=Europe/Madrid:20220629T190000
DTSTAMP:20260421T165210
CREATED:20220606T073314Z
LAST-MODIFIED:20220606T073314Z
UID:2108-1656522000-1656529200@santaceciliaderequena.org
SUMMARY:Pruebas acceso Banda Juvenil 2022
DESCRIPTION:¿Has terminado el segundo curso de enseñanzas elementales de Música?  ¿Quieres formar parte de nuestra Banda Juvenil?. \nEste próximo miercoles 29 de junio a partir de las 17:00 horas\, realizaremos en el auditorio de la Sociedad Musical Santa Cecilia de Requena las pruebas de acceso a nuestra Banda Juvenil. \nLa prueba de acceso está dividida en tres partes: \n\nEntrevista personal con nuestro director Francisco Martínez Martínez.\nInterpretación ante el tribunal formado por el director de la banda juvenil y el jefe de estudios de la escuela de una obra a elegir por el aspirante.\nLectura a primera vista de una pieza seleccionada por el director.\n\nPara participar en las pruebas realiza la inscripción en el siguiente enlace y contactaremos para indicarte exactamente a qué hora tienes que acudir. \n  ¡¡¡ Te esperamos !!! 
URL:https://santaceciliaderequena.org/evento/pruebas-acceso-banda-juvenil-2022/
LOCATION:Auditorio Sociedad Musical Santa Cecilia\, Calle Rafael Bernabeu\, 1\, Requena\, Valencia\, 46340\, España
CATEGORIES:Otros
ATTACH;FMTTYPE=image/jpeg:https://santaceciliaderequena.org/wp-content/uploads/2021/06/musica_infantil-1.jpg
ORGANIZER;CN="Sociedad Musical Santa Cecilia de Requena":MAILTO:info@santaceciliaderequena.org
END:VEVENT
END:VCALENDAR