BEGIN:VCALENDAR
VERSION:2.0
PRODID:-//Sociedad Musical Santa Cecilia de Requena - ECPv6.5.1.5//NONSGML v1.0//EN
CALSCALE:GREGORIAN
METHOD:PUBLISH
X-WR-CALNAME:Sociedad Musical Santa Cecilia de Requena
X-ORIGINAL-URL:https://santaceciliaderequena.org
X-WR-CALDESC:Eventos para Sociedad Musical Santa Cecilia de Requena
REFRESH-INTERVAL;VALUE=DURATION:PT1H
X-Robots-Tag:noindex
X-PUBLISHED-TTL:PT1H
BEGIN:VTIMEZONE
TZID:Europe/Madrid
BEGIN:DAYLIGHT
TZOFFSETFROM:+0100
TZOFFSETTO:+0200
TZNAME:CEST
DTSTART:20220327T010000
END:DAYLIGHT
BEGIN:STANDARD
TZOFFSETFROM:+0200
TZOFFSETTO:+0100
TZNAME:CET
DTSTART:20221030T010000
END:STANDARD
BEGIN:DAYLIGHT
TZOFFSETFROM:+0100
TZOFFSETTO:+0200
TZNAME:CEST
DTSTART:20230326T010000
END:DAYLIGHT
BEGIN:STANDARD
TZOFFSETFROM:+0200
TZOFFSETTO:+0100
TZNAME:CET
DTSTART:20231029T010000
END:STANDARD
BEGIN:DAYLIGHT
TZOFFSETFROM:+0100
TZOFFSETTO:+0200
TZNAME:CEST
DTSTART:20240331T010000
END:DAYLIGHT
BEGIN:STANDARD
TZOFFSETFROM:+0200
TZOFFSETTO:+0100
TZNAME:CET
DTSTART:20241027T010000
END:STANDARD
BEGIN:DAYLIGHT
TZOFFSETFROM:+0100
TZOFFSETTO:+0200
TZNAME:CEST
DTSTART:20250330T010000
END:DAYLIGHT
BEGIN:STANDARD
TZOFFSETFROM:+0200
TZOFFSETTO:+0100
TZNAME:CET
DTSTART:20251026T010000
END:STANDARD
BEGIN:DAYLIGHT
TZOFFSETFROM:+0100
TZOFFSETTO:+0200
TZNAME:CEST
DTSTART:20260329T010000
END:DAYLIGHT
BEGIN:STANDARD
TZOFFSETFROM:+0200
TZOFFSETTO:+0100
TZNAME:CET
DTSTART:20261025T010000
END:STANDARD
END:VTIMEZONE
BEGIN:VEVENT
DTSTART;TZID=Europe/Madrid:20220410T120000
DTEND;TZID=Europe/Madrid:20220410T140000
DTSTAMP:20260422T021854
CREATED:20220401T115810Z
LAST-MODIFIED:20220401T115810Z
UID:1995-1649592000-1649599200@santaceciliaderequena.org
SUMMARY:Ciclo Música Sacra - Johan Sebastian Bach
DESCRIPTION:El domingo 10 de abril a las 12:00 horas\, en el Templo de Santa María de Requena\, la Orquesta Sinfónica Ciudad de Requena\, dentro del XXIII Ciclo de Música Sacra organizado por el M.I. Ayuntamiento de Requena\, realizará un concierto monográfico dedicado al compositor Johan Sebastian Bach. Bajo la dirección de nuestro director titular  Borja Martinez Alegre se interpretará el siguiente programa: \n\nConcierto de Brandeburgo nº3 en Sol Mayor para cuerda.\n\n\n\nAllegro\nAdagio-Allegro\n\n\n\n\nConcierto en La menor para violín y cuerda.\n\n\n\n\n\n\nAllegro\nAndante\nAllegro\n\n\n\n\n\n     Solista: Alejandro Ruiz Ramos \n\nSuite orquestal nº1 en Do mayor para dos oboes\, fagot y cuerda.\n\n\n\n\n\n\nObertura\nCourante\nGavotte I y II\nForlane\nMinué I y II\nBourrée I y II\nPassepied I y II\n\n\n\n\n\nDirector: Borja Martinez Alegre \nAforo limitado. \n\nSocios Sociedad Musical.- 3€\nResto público.- 5€
URL:https://santaceciliaderequena.org/evento/ciclo-musica-sacra-johan-sebastian-bach/
LOCATION:Templo de Santa Maria\, Callle Santa Maria\, 15\, Requena\, Valencia\, 46340\, España
CATEGORIES:Concierto
ATTACH;FMTTYPE=image/jpeg:https://santaceciliaderequena.org/wp-content/uploads/2022/03/orqes-1.jpg
ORGANIZER;CN="M.I. Ayuntamiento de Requena":MAILTO:info@requena.es
END:VEVENT
BEGIN:VEVENT
DTSTART;TZID=Europe/Madrid:20220508T193000
DTEND;TZID=Europe/Madrid:20220508T193000
DTSTAMP:20260422T021854
CREATED:20220429T104207Z
LAST-MODIFIED:20220429T104207Z
UID:2031-1652038200-1652038200@santaceciliaderequena.org
SUMMARY:Concierto Big Band música Stevie Wonder
DESCRIPTION:El próximo domingo 8 de mayo a las 19:30 h\, en el Teatro Principal de Requena la Big Band Jazz Ensemble de Requena\, bajo la dirección de Alejandro Garcia Pedrón\, realizará un concierto monográfico dedicado a Stevland Hardaway Morris (conocido artísticamente como Stevie Wonder)\, cantautor y músico estadounidense ganador de tres premios Grammy al album del año de manera consecutiva durante los años 70. El programa a interpretar estará formado por los siguientes temas: \n\nDon´t you worry about a thing\, arr. Paul Murtha\nBoggie on reggae woman\, arr. Mike Tomaro\nIsn´t she lovely\, arr. Mike Tomaro\nOverjoyed\, arr. Mark Taylor\nHigher ground\, arr. Mike Tomaro\nSir Duke\, arr. Michael Philip Mossman\nYou are the sunshine of my life\, arr. Paul Murtha\nLiving for the city\, arr. John Wasson\nI just called to say I love you\, arr. Michael Philip Mossman\nSuperstition\, arr. Mike Tomaro\n\nOs esperamos en el Teatro Principal para disfrutar con la mejor música del genial Stevie Wonder. \n\nEntrada Socios Sociedad Musical 3€\nResto público 5€
URL:https://santaceciliaderequena.org/evento/concierto-big-band-musica-stevie-wonder/
LOCATION:Teatro Principal\, Calle de las Cruces 5\, Requena\, Valencia\, 46340\, España
CATEGORIES:Concierto
ATTACH;FMTTYPE=image/jpeg:https://santaceciliaderequena.org/wp-content/uploads/2022/04/stevie-1.jpg
ORGANIZER;CN="Sociedad Musical Santa Cecilia de Requena":MAILTO:info@santaceciliaderequena.org
END:VEVENT
BEGIN:VEVENT
DTSTART;TZID=Europe/Madrid:20220605T190000
DTEND;TZID=Europe/Madrid:20220605T190000
DTSTAMP:20260422T021854
CREATED:20220531T170753Z
LAST-MODIFIED:20220531T170753Z
UID:2102-1654455600-1654455600@santaceciliaderequena.org
SUMMARY:Concierto Excel.lent 2022
DESCRIPTION:El próximo domingo 5 de junio a las 19:00 horas\, nuestra Banda Sinfónica realizará el concierto de música de banda Excel.lent\, impulsado por la Diputación de Valencia. Este concierto se enmarca dentro del programa que todos los años la Diputación de Valencia realiza para ayudar a la difusión de la música valenciana y la consolidación de las Bandas de música federadas. \nEl concierto tendrá lugar en el Teatro Principal de Requena\, donde bajo la dirección de Sergio Navarro Bonaviña\,  podremos disfrutar con las interpretaciones de varios de los solistas de nuestra Banda Sinfónica. El programa estará compuesto por las siguientes obras: \n\nArrels d´un pensador (pasodoble). Mario Roig (Albaida 1972).\n\nClarinetes: José Miguel Hernández Pérez – Salvador García Forner \n\nConcierto para dos clarinetes nº1 op. 35. Franz Krommer (1759-1831)\n\nClarinetes: David López Alberique – Valentín López Hernández \n\nFantasía Brillante sobre temas de la opera «Carmen». Francois Borne (1840-1920)\n\nFlauta: Luna Poveda Villarrubia \n\nPieza de concierto nº2 op. 114. Felix Mendelssohn (1809-1847)\n\nClarinete: Rául López Alberique.   Clarinete alto: Valentín López Hernández \n\nConcertino. Cécile Chaminade (1857-1944).\n\nFlauta: Iván Gómez Martínez \n\nPepita Greus (pasodoble). Pascual Pérez (Carlet 1889-1953).\n\nClarinete: Ismael Almenar González \nDirector: Sergio Navarro Bonaviña \nEntrada gratuita.
URL:https://santaceciliaderequena.org/evento/concierto-excel-lent-2022/
LOCATION:Teatro Principal\, Calle de las Cruces 5\, Requena\, Valencia\, 46340\, España
CATEGORIES:Concierto
ATTACH;FMTTYPE=image/jpeg:https://santaceciliaderequena.org/wp-content/uploads/2022/05/excellent-2022-1.jpg
ORGANIZER;CN="Sociedad Musical Santa Cecilia de Requena":MAILTO:info@santaceciliaderequena.org
END:VEVENT
BEGIN:VEVENT
DTSTART;TZID=Europe/Madrid:20220625T130000
DTEND;TZID=Europe/Madrid:20220625T140000
DTSTAMP:20260422T021854
CREATED:20220604T171049Z
LAST-MODIFIED:20220604T171049Z
UID:2110-1656162000-1656165600@santaceciliaderequena.org
SUMMARY:Pruebas acceso Orquesta Sinfonica Ciudad de Requena 2022
DESCRIPTION:¿Estás estudiando en el conservatorio un instrumento de cuerda? ¿Has terminado ya el cuarto curso de enseñanzas elementales de Música\, o estás estudiando grado profesional?  ¿Quieres formar parte de nuestra Orquesta Ciudad de Requena?. \nEl próximo sábado 25 de junio a partir de las 13:00 horas\, realizaremos en el auditorio de la Sociedad Musical Santa Cecilia de Requena las pruebas de acceso a nuestra Orquesta Sinfónica Ciudad de Requena. \nLa prueba de acceso está dividida en tres partes: \n\nEntrevista personal con nuestro director Borja Martínez Alegre.\nInterpretación de una obra a elegir por el aspirante.\nLectura a primera vista de una pieza seleccionada por el director.\n\nPara participar en las pruebas realiza la inscripción en el siguiente enlace. \n  ¡¡¡ Te esperamos !!! 
URL:https://santaceciliaderequena.org/evento/pruebas-acceso-orquesta-sinfonica-ciudad-de-requena-2022/
LOCATION:Auditorio Sociedad Musical Santa Cecilia\, Calle Rafael Bernabeu\, 1\, Requena\, Valencia\, 46340\, España
CATEGORIES:Otros
ATTACH;FMTTYPE=image/jpeg:https://santaceciliaderequena.org/wp-content/uploads/2021/06/libros-musica-978x652-1-1.jpg
ORGANIZER;CN="Sociedad Musical Santa Cecilia de Requena":MAILTO:info@santaceciliaderequena.org
END:VEVENT
BEGIN:VEVENT
DTSTART;TZID=Europe/Madrid:20220629T170000
DTEND;TZID=Europe/Madrid:20220629T190000
DTSTAMP:20260422T021854
CREATED:20220606T073314Z
LAST-MODIFIED:20220606T073314Z
UID:2108-1656522000-1656529200@santaceciliaderequena.org
SUMMARY:Pruebas acceso Banda Juvenil 2022
DESCRIPTION:¿Has terminado el segundo curso de enseñanzas elementales de Música?  ¿Quieres formar parte de nuestra Banda Juvenil?. \nEste próximo miercoles 29 de junio a partir de las 17:00 horas\, realizaremos en el auditorio de la Sociedad Musical Santa Cecilia de Requena las pruebas de acceso a nuestra Banda Juvenil. \nLa prueba de acceso está dividida en tres partes: \n\nEntrevista personal con nuestro director Francisco Martínez Martínez.\nInterpretación ante el tribunal formado por el director de la banda juvenil y el jefe de estudios de la escuela de una obra a elegir por el aspirante.\nLectura a primera vista de una pieza seleccionada por el director.\n\nPara participar en las pruebas realiza la inscripción en el siguiente enlace y contactaremos para indicarte exactamente a qué hora tienes que acudir. \n  ¡¡¡ Te esperamos !!! 
URL:https://santaceciliaderequena.org/evento/pruebas-acceso-banda-juvenil-2022/
LOCATION:Auditorio Sociedad Musical Santa Cecilia\, Calle Rafael Bernabeu\, 1\, Requena\, Valencia\, 46340\, España
CATEGORIES:Otros
ATTACH;FMTTYPE=image/jpeg:https://santaceciliaderequena.org/wp-content/uploads/2021/06/musica_infantil-1.jpg
ORGANIZER;CN="Sociedad Musical Santa Cecilia de Requena":MAILTO:info@santaceciliaderequena.org
END:VEVENT
BEGIN:VEVENT
DTSTART;TZID=Europe/Madrid:20220630T170000
DTEND;TZID=Europe/Madrid:20220630T190000
DTSTAMP:20260422T021854
CREATED:20220604T170755Z
LAST-MODIFIED:20220604T170755Z
UID:2105-1656608400-1656615600@santaceciliaderequena.org
SUMMARY:Pruebas acceso Banda Sinfonica 2022
DESCRIPTION:¿Ya has terminado tus estudios de grado elemental de Música?. ¿Vas a realizar las pruebas de acceso para cursar el Grado Profesional de Música?. ¿Te apetece compartir tu pasión por la música con tus amigos y formar parte de nuestra Banda Sinfónica?. \nEste próximo jueves 30 de junio a partir de las 17:00 horas\, realizaremos en el auditorio de la Sociedad Musical Santa Cecilia de Requena las pruebas de acceso a nuestra Banda Sinfónica. \nLa prueba de acceso está dividida en tres partes: \n\nEntrevista personal con nuestro director Sergio Navarro Bonaviña\nInterpretación de una obra a elegir por el tribunal de un repertorio de tres obras propuestas por el aspirante.\nLectura a primera vista de una pieza seleccionada por el director.\n\nPara participar en las pruebas realiza la inscripción en el siguiente enlace y contactaremos para indicarte exactamente a qué hora tienes que acudir. \n  ¡¡¡ Te esperamos !!! 
URL:https://santaceciliaderequena.org/evento/pruebas-acceso-banda-sinfonica-2022/
LOCATION:Auditorio Sociedad Musical Santa Cecilia\, Calle Rafael Bernabeu\, 1\, Requena\, Valencia\, 46340\, España
CATEGORIES:Otros
ATTACH;FMTTYPE=image/jpeg:https://santaceciliaderequena.org/wp-content/uploads/2021/06/music-1.jpg
ORGANIZER;CN="Sociedad Musical Santa Cecilia de Requena":MAILTO:info@santaceciliaderequena.org
END:VEVENT
BEGIN:VEVENT
DTSTART;TZID=Europe/Madrid:20250614T190000
DTEND;TZID=Europe/Madrid:20250614T201500
DTSTAMP:20260422T021854
CREATED:20250610T094807Z
LAST-MODIFIED:20250611T100003Z
UID:2422-1749927600-1749932100@santaceciliaderequena.org
SUMMARY:Concierto subvencionado por el programa EXCEL·LENT MÚSICA DE BANDA 2025 🎺
DESCRIPTION:La Sociedad Musical Santa Cecilia de Requena tiene el placer de anunciar que ha sido subvencionada por la Excma. Diputación de Valencia dentro de la campaña de ayudas a Sociedades Musicales EXCEL·LENT MÚSICA DE BANDA 2025\, en el apartado de Concierto de Banda de Música. \nGracias a esta valiosa iniciativa\, podremos ofrecer un concierto el próximo 14 de junio a las 19:00 h en el Teatro Principal de Requena\, con entrada libre hasta completar aforo. \nDesde aquí queremos agradecer profundamente la gran labor que realiza la Diputación de Valencia en apoyo a las sociedades y escuelas de música de nuestra provincia. ¡Os esperamos para compartir juntos una tarde llena de música y emoción!
URL:https://santaceciliaderequena.org/evento/concierto-subvencionado-por-el-programa-excel%c2%b7lent-musica-de-banda-2025-%f0%9f%8e%ba/
LOCATION:Teatro Principal\, Calle de las Cruces 5\, Requena\, Valencia\, 46340\, España
ORGANIZER;CN="Sociedad Musical Santa Cecilia de Requena":MAILTO:info@santaceciliaderequena.org
END:VEVENT
BEGIN:VEVENT
DTSTART;TZID=Europe/Madrid:20260419T120000
DTEND;TZID=Europe/Madrid:20260419T131500
DTSTAMP:20260422T021854
CREATED:20260417T140308Z
LAST-MODIFIED:20260417T140416Z
UID:2449-1776600000-1776604500@santaceciliaderequena.org
SUMMARY:Concierto Banda Sinfónica Santa Cecilia (EXCELLENT)
DESCRIPTION:Este próximo domingo 19 de abril a las 12 h en el auditorio de nuestra sociedad musical concierto de nuestra banda sinfónica enmarcado dentro de la campaña Excellent de la diputación de Valencia.\nBajo la dirección de Enrique Sapiña podremos disfrutar de musica compuesta por compositores valencianos como Pedro Salinas Robles o Manuel Morales.\nOs esperamos a todos\, entrada gratuita 
URL:https://santaceciliaderequena.org/evento/concierto-banda-sinfonica-santa-cecilia-excellent/
LOCATION:Auditorio Sociedad Musical Santa Cecilia\, Calle Rafael Bernabeu\, 1\, Requena\, Valencia\, 46340\, España
ORGANIZER;CN="Sociedad Musical Santa Cecilia de Requena":MAILTO:info@santaceciliaderequena.org
END:VEVENT
END:VCALENDAR