BEGIN:VCALENDAR
VERSION:2.0
PRODID:-//Sociedad Musical Santa Cecilia de Requena - ECPv6.5.1.5//NONSGML v1.0//EN
CALSCALE:GREGORIAN
METHOD:PUBLISH
X-WR-CALNAME:Sociedad Musical Santa Cecilia de Requena
X-ORIGINAL-URL:https://santaceciliaderequena.org
X-WR-CALDESC:Eventos para Sociedad Musical Santa Cecilia de Requena
REFRESH-INTERVAL;VALUE=DURATION:PT1H
X-Robots-Tag:noindex
X-PUBLISHED-TTL:PT1H
BEGIN:VTIMEZONE
TZID:Europe/Helsinki
BEGIN:DAYLIGHT
TZOFFSETFROM:+0200
TZOFFSETTO:+0300
TZNAME:EEST
DTSTART:20200329T010000
END:DAYLIGHT
BEGIN:STANDARD
TZOFFSETFROM:+0300
TZOFFSETTO:+0200
TZNAME:EET
DTSTART:20201025T010000
END:STANDARD
END:VTIMEZONE
BEGIN:VEVENT
DTSTART;TZID=Europe/Helsinki:20201121T200000
DTEND;TZID=Europe/Helsinki:20201121T210000
DTSTAMP:20260423T021348
CREATED:20201121T103400Z
LAST-MODIFIED:20201121T103400Z
UID:1620-1605988800-1605992400@santaceciliaderequena.org
SUMMARY:Concierto musica do Brasil. Big Band Jazz Ensemble Requena
DESCRIPTION:Comenzamos la XLIII Semana Musical con la actuación de nuestra Big Band Jazz Ensemble. A partir de las 20:00 h en el Teatro Principal\, se realizará un concierto temático dedicado a la música brasileña. \nEn el debut del nuevo director de nuestra agrupación\, Alejandro Garcia Pedrón\, sonarán los siguientes temas: \n\nBlue Bossa.                                        Kenny Dorham (Arrgl. Mark Taylor)\nOne note Samba.                                    Tom Jobim (Arrgl. Jerry Nowak)\nSoul Bossa Nova.                                   Quincy Jones (Arrgl. Rick Stitzel)\nGarota de Ipanema (swing).                 Tom Jobim (Arrgl. Mark Taylor)\nAguas de Março.                          Tom Jobim (Arrgl. Alfons Carrascosa)\nWave.                                                  Tom Jobim (Arrgl. Philip Mossman)\nMais que nada.                                          Jorge Ben (Arrgl. Mark Taylor)\nHow insensitive.                                   Tom Jobim (Arrgl.  Paul Murtha)\nGentle Rain.                                             Luiz Bonfa (Arrgl. Dave Wolpe)\nBlack Orpheus                                       Luiz Bonfa (Arrgl. Eric Richards)
URL:https://santaceciliaderequena.org/evento/concierto-musica-do-brasil-big-band-jazz-ensemble-requena/
LOCATION:Teatro Principal\, Calle de las Cruces 5\, Requena\, Valencia\, 46340\, España
CATEGORIES:Concierto
ATTACH;FMTTYPE=:
ORGANIZER;CN="Sociedad Musical Santa Cecilia de Requena":MAILTO:info@santaceciliaderequena.org
END:VEVENT
BEGIN:VEVENT
DTSTART;TZID=Europe/Helsinki:20201122T200000
DTEND;TZID=Europe/Helsinki:20201122T210000
DTSTAMP:20260423T021348
CREATED:20201121T105357Z
LAST-MODIFIED:20201121T105357Z
UID:1621-1606075200-1606078800@santaceciliaderequena.org
SUMMARY:Concierto Banda Sinfónica Santa Cecilia de Requena
DESCRIPTION:Este año motivado por las restricciones de aforo\, nuestra Banda Sinfónica ha preparado tres (3) conciertos para poder dar cabida en el escenario a todos nuestros músicos. El domingo 22 de noviembre a las 20:00 horas en el Teatro Principal de Requena celebraremos el primero de ellos. \nEn el programa destaca la actuación como trompeta solista de Jaime Iranzo Hernández\, miembro desde niño de nuestra Sociedad Musical y actual profesor de trompeta en nuestra Escuela de Música. \nBajo la dirección de nuestro director titular\, Sergio Navarro Bonaviña se interpretarán las siguientes obras: \n\nPepet (Pasodoble dianer).                                          Pedro Salinas Robles\nConcierto para trompeta y orquesta.                 Alexander Arutunian\nCoppelia (Fantasia el Ballet).                                                     Leo Delibes\nA Festival Prelude.                                                                    Alfred Reed\nA Movement for Rosa.                                                  Mark Camphouse\nSlava (Obertura).                                                             Leonard Bernstein
URL:https://santaceciliaderequena.org/evento/concierto-banda-sinfonica-santa-cecilia-de-requena/
LOCATION:Teatro Principal\, Calle de las Cruces 5\, Requena\, Valencia\, 46340\, España
CATEGORIES:Concierto
ATTACH;FMTTYPE=:
ORGANIZER;CN="Sociedad Musical Santa Cecilia de Requena":MAILTO:info@santaceciliaderequena.org
END:VEVENT
BEGIN:VEVENT
DTSTART;TZID=Europe/Helsinki:20201127T200000
DTEND;TZID=Europe/Helsinki:20201127T210000
DTSTAMP:20260423T021348
CREATED:20201124T092126Z
LAST-MODIFIED:20201124T092126Z
UID:1622-1606507200-1606510800@santaceciliaderequena.org
SUMMARY:Concierto Banda Juvenil Sociedad Musical Santa Cecilia de Requena
DESCRIPTION:Continuamos con los conciertos de nuestra XLIII Semana Musical. Esta vez es el turno de los más pequeños de nuestra Sociedad\, nuestra Banda Juvenil realizará el viernes 27 de noviembre a las 20:00 h\, en el Teatro Principal  de Requena\, bajo la dirección de Francisco Martinez Martinez un extraordinario concierto. \nEn primer lugar y como es tradición\, previo al inicio del concierto desfilaran los nuevos educandos que se incorporan  a nuestra banda juvenil. \nFlautas                                                                \n\nSofía Navarro Gómez\nDiego Pérez Platero\nAlanna de Gracia García\n\nOboes \n\nAlejandro Pérez López\n\nClarinetes \n\nAlex Alcorlo Gómez\n\nSaxofones \n\nLydia Giménez Giménez\n\nBombardinos \n\nIván Garcia Angulo\n\nTrompetas \n\nJavier Pérez Cárcel\nSamuel Dussart Pedrón\n\nTrombones \n\nAdrián Martínez Valiente\n\nPercusión \n\nRicardo Alejandro Ramirez Prada\nJavier Mateo López\nMarc Soriano Pozo\n\nDebido a las limitaciones de aforo y para dar cumplimiento a la normativa sanitaria actual\,  únicamente se podrá contar en el escenario con la presencia de un grupo reducido de nuestra banda juvenil\, compuesto en este caso por los mas pequeños\, no obstante haremos todo lo posible para que los mas mayores puedan participar y ayudar a sus compañeros. Como todos los años alguna sorpresa tendrá preparada nuestro director para alegrar la tarde tanto al publico como a nuestros jóvenes músicos. \nEl programa a interpretar estará compuesto por las siguientes obras: \n\nApache Warrior.\n4 Pequeñas piezas para banda juvenil.                              Dimitri Shostakovich\nJamaica Farewell.                                                                                   Philip Sparke\nPor un puñado de dolares (BSO).                                                Ennio Morricone\nLa muerte tenía un precio (BSO).                                                Ennio Morricone\nMoment for Morricone (BSO).                  Ennio Morricone (Arr. Johan de Mey)
URL:https://santaceciliaderequena.org/evento/concierto-banda-juvenil-sociedad-musical-santa-cecilia-de-requena/
LOCATION:Teatro Principal\, Calle de las Cruces 5\, Requena\, Valencia\, 46340\, España
CATEGORIES:Concierto
ATTACH;FMTTYPE=:
ORGANIZER;CN="Sociedad Musical Santa Cecilia de Requena":MAILTO:info@santaceciliaderequena.org
END:VEVENT
BEGIN:VEVENT
DTSTART;TZID=Europe/Helsinki:20201128T200000
DTEND;TZID=Europe/Helsinki:20201128T210000
DTSTAMP:20260423T021348
CREATED:20201128T100735Z
LAST-MODIFIED:20201128T100735Z
UID:1624-1606593600-1606597200@santaceciliaderequena.org
SUMMARY:Concierto BSO Banda Sinfónica Santa Cecilia de Requena
DESCRIPTION:Continúanos con el segundo de los conciertos programadas en grupos reducidos por nuestra Banda Sinfónica. En esta ocasión tendremos un concierto dedicado a la música compuesta para el cine. Bajo la dirección del joven músico requenense Pablo Soriano Sánchez\, haremos un recorrido por la música de cine desde los años 80 hasta nuestros tiempos. \nEl programa a interpretar estará compuesto por las siguientes obras: \n\nIndiana Jones (1981)                                                   John Williams\nParque Jurásico (1993)                                               John Williams\nLa Roca: Selección (1996)                           Harry Greson Williams\nGladiator (2000)                                                           Hans Zimmer\nStar Wars: El despertar de la fuerza (2015)         John Williams\nVengadores: Endgame (2019)                                    Alan Silvestri\n\n 
URL:https://santaceciliaderequena.org/evento/concierto-bso-banda-sinfonica-santa-cecilia-de-requena/
LOCATION:Teatro Principal\, Calle de las Cruces 5\, Requena\, Valencia\, 46340\, España
CATEGORIES:Concierto
ATTACH;FMTTYPE=:
ORGANIZER;CN="Sociedad Musical Santa Cecilia de Requena":MAILTO:info@santaceciliaderequena.org
END:VEVENT
BEGIN:VEVENT
DTSTART;TZID=Europe/Helsinki:20201129T200000
DTEND;TZID=Europe/Helsinki:20201129T210000
DTSTAMP:20260423T021348
CREATED:20201128T111812Z
LAST-MODIFIED:20201128T111812Z
UID:1625-1606680000-1606683600@santaceciliaderequena.org
SUMMARY:Concierto Zarzuelas Banda Sinfónica Santa Cecilia de Requena
DESCRIPTION:Terminamos nuestra XLIII Semana Musical con el último de los conciertos programados por las particiones reducidas de nuestra Banda Sinfónica. El domingo 29 de noviembre a las 20:00 h en el Teatro Principal\, celebraremos un concierto dedicado íntegramente al genero musical de la Zarzuela. \nContaremos con la actuación de la joven soprano Luna Poveda Villarrubia\, flauta travesera solista en nuestra Sociedad Musical además de actual madrina de la música. \n \nBajo la batuta de nuestro director titular Sergio Navarro Bonaviña se interpretarán las siguientes obras: \n\nLa Calesera (pasodoble)                                                                                      Francisco Alonso\nAgua\, azucarillos y aguardiente (selección)                                                  Federico Chueca\nTango de la Menegilda (de la zarzuela «La Gran Vía»)                        F. Chueca y J. Valverde\nCanción de Rosina (de la zarzuela «La Canción del Olvido»)                               Jose Serrano\nEl Bateo (preludio)                                                                                                Federico Chueca\nGigantes y cabezudos (selección)                                                               Manuel F. Caballero\nRomanza de Ascensión (de la zarzuela «La del manojo de rosas»)             Pablo Sorozábal\nCanción de la Paloma (de la zarzuela «El Barberillo de Lavapiés»)      Francisco A. Barbieri\n\n 
URL:https://santaceciliaderequena.org/evento/concierto-zarzuelas-banda-sinfonica-santa-cecilia-de-requena/
LOCATION:Teatro Principal\, Calle de las Cruces 5\, Requena\, Valencia\, 46340\, España
CATEGORIES:Concierto
ATTACH;FMTTYPE=:
ORGANIZER;CN="Sociedad Musical Santa Cecilia de Requena":MAILTO:info@santaceciliaderequena.org
END:VEVENT
END:VCALENDAR