BEGIN:VCALENDAR
VERSION:2.0
PRODID:-//Sociedad Musical Santa Cecilia de Requena - ECPv6.5.1.5//NONSGML v1.0//EN
CALSCALE:GREGORIAN
METHOD:PUBLISH
X-ORIGINAL-URL:https://santaceciliaderequena.org
X-WR-CALDESC:Eventos para Sociedad Musical Santa Cecilia de Requena
REFRESH-INTERVAL;VALUE=DURATION:PT1H
X-Robots-Tag:noindex
X-PUBLISHED-TTL:PT1H
BEGIN:VTIMEZONE
TZID:Europe/Madrid
BEGIN:DAYLIGHT
TZOFFSETFROM:+0100
TZOFFSETTO:+0200
TZNAME:CEST
DTSTART:20220327T010000
END:DAYLIGHT
BEGIN:STANDARD
TZOFFSETFROM:+0200
TZOFFSETTO:+0100
TZNAME:CET
DTSTART:20221030T010000
END:STANDARD
END:VTIMEZONE
BEGIN:VEVENT
DTSTART;TZID=Europe/Madrid:20220508T193000
DTEND;TZID=Europe/Madrid:20220508T193000
DTSTAMP:20260421T183136
CREATED:20220429T104207Z
LAST-MODIFIED:20220429T104207Z
UID:2031-1652038200-1652038200@santaceciliaderequena.org
SUMMARY:Concierto Big Band música Stevie Wonder
DESCRIPTION:El próximo domingo 8 de mayo a las 19:30 h\, en el Teatro Principal de Requena la Big Band Jazz Ensemble de Requena\, bajo la dirección de Alejandro Garcia Pedrón\, realizará un concierto monográfico dedicado a Stevland Hardaway Morris (conocido artísticamente como Stevie Wonder)\, cantautor y músico estadounidense ganador de tres premios Grammy al album del año de manera consecutiva durante los años 70. El programa a interpretar estará formado por los siguientes temas: \n\nDon´t you worry about a thing\, arr. Paul Murtha\nBoggie on reggae woman\, arr. Mike Tomaro\nIsn´t she lovely\, arr. Mike Tomaro\nOverjoyed\, arr. Mark Taylor\nHigher ground\, arr. Mike Tomaro\nSir Duke\, arr. Michael Philip Mossman\nYou are the sunshine of my life\, arr. Paul Murtha\nLiving for the city\, arr. John Wasson\nI just called to say I love you\, arr. Michael Philip Mossman\nSuperstition\, arr. Mike Tomaro\n\nOs esperamos en el Teatro Principal para disfrutar con la mejor música del genial Stevie Wonder. \n\nEntrada Socios Sociedad Musical 3€\nResto público 5€
URL:https://santaceciliaderequena.org/evento/concierto-big-band-musica-stevie-wonder/
LOCATION:Teatro Principal\, Calle de las Cruces 5\, Requena\, Valencia\, 46340\, España
CATEGORIES:Concierto
ATTACH;FMTTYPE=image/jpeg:https://santaceciliaderequena.org/wp-content/uploads/2022/04/stevie-1.jpg
ORGANIZER;CN="Sociedad Musical Santa Cecilia de Requena":MAILTO:info@santaceciliaderequena.org
END:VEVENT
END:VCALENDAR